BEGIN:VCALENDAR
VERSION:2.0
PRODID:icalendar-ruby
CALSCALE:GREGORIAN
BEGIN:VEVENT
DTSTAMP:20260422T002219Z
UID:35c7105b-3b43-4ce7-95e6-0e180652585e
DTSTART:20230417T090000Z
DTEND:20230420T000000Z
SUMMARY:17-19 April 2023\, Workshop ‘Time-resolved spectroscopy meets tim
 e-resolved crystallography: The future of dynamic photobiology’\, online
URL;VALUE=URI:https://www.laserlab-europe.eu/events-1/conferences/conferenc
 e-calendar/17-19-april-2023-workshop-2018time-resolved-spectroscopy-meets-
 time-resolved-crystallography-the-future-of-dynamic-photobiology2019-onlin
 e
END:VEVENT
END:VCALENDAR
