BEGIN:VCALENDAR
VERSION:2.0
PRODID:icalendar-ruby
CALSCALE:GREGORIAN
BEGIN:VEVENT
DTSTAMP:20260422T070841Z
UID:9fcca7cb-7e76-4617-9251-dec7bc48323f
DTSTART:20230417T090000Z
DTEND:20230420T000000Z
SUMMARY:17-19 April 2023\, Time-resolved spectroscopy meets time-resolved c
 rystallography. The future of dynamic photobiology\, online
URL;VALUE=URI:https://www.laserlab-europe.eu/events-1/conferences/conferenc
 e-calendar/17-19-april-2023-time-resolved-spectroscopy-meets-time-resolved
 -crystallography-the-future-of-dynamic-photobiology-online
END:VEVENT
END:VCALENDAR
