BEGIN:VCALENDAR
VERSION:2.0
PRODID:icalendar-ruby
CALSCALE:GREGORIAN
BEGIN:VEVENT
DTSTAMP:20260423T005350Z
UID:99131432-5609-4636-a63d-5afb2c264c1e
DTSTART:20250316T090000Z
DTEND:20250322T000000Z
SUMMARY:16-21 March 2025\, Symposium "Molecular Polaritonics: Chemical Dyna
 mics and Spectroscopy" at the 2025 APS March Meeting\, Anaheim\, Californi
 a\, USA
URL;VALUE=URI:https://www.laserlab-europe.eu/events/conferences/conference-
 calendar/16-21-march-2025-symposium-molecular-polaritonics-chemical-dynami
 cs-and-spectroscopy-at-the-2025-aps-march-meeting-anaheim-california-usa
END:VEVENT
END:VCALENDAR
