BEGIN:VCALENDAR
VERSION:2.0
PRODID:icalendar-ruby
CALSCALE:GREGORIAN
BEGIN:VEVENT
DTSTAMP:20260421T062329Z
UID:488dbf3b-779b-4c0b-be92-7d77e298cd84
DTSTART:20240616T090000Z
DTEND:20240622T000000Z
SUMMARY:16-21 June 2024\, International Workshop on Quantum Atomic and Mole
 cular Tunneling Systems\, San Sebastian\, Spain
URL;VALUE=URI:https://www.laserlab-europe.eu/events/conferences/conference-
 calendar/16-21-june-2024-international-workshop-on-quantum-atomic-and-mole
 cular-tunneling-systems-san-sebastian-spain
END:VEVENT
END:VCALENDAR
