BEGIN:VCALENDAR
VERSION:2.0
PRODID:icalendar-ruby
CALSCALE:GREGORIAN
BEGIN:VEVENT
DTSTAMP:20260421T175842Z
UID:f6c22d05-3daa-4c40-9dc7-54e81a770418
DTSTART:20240616T090000Z
DTEND:20240622T000000Z
SUMMARY:16-21 June 2024\,  International Conference on Laser\, Plasma and R
 adiation – Science and Technology\, Danube Delta\, Romania
URL;VALUE=URI:https://www.laserlab-europe.eu/events/conferences/conference-
 calendar/16-21-june-2024-international-conference-on-laser-plasma-and-radi
 ation-2013-science-and-technology-danube-delta-romania
END:VEVENT
END:VCALENDAR
