BEGIN:VCALENDAR
VERSION:2.0
PRODID:icalendar-ruby
CALSCALE:GREGORIAN
BEGIN:VEVENT
DTSTAMP:20260422T050318Z
UID:abb52832-e7e9-4ca8-b045-002e2149b098
DTSTART:20240916T090000Z
DTEND:20240921T000000Z
SUMMARY:16-20 September 2024\, European Conference on Laser Interaction wit
 h Matter - ECLIM 2024\, Lisbon\, Portugal
URL;VALUE=URI:https://www.laserlab-europe.eu/events/conferences/conference-
 calendar/16-20-september-2024-european-conference-on-laser-interaction-wit
 h-matter-eclim-2024-lisbon-portugal
END:VEVENT
END:VCALENDAR
