BEGIN:VCALENDAR
VERSION:2.0
PRODID:icalendar-ruby
CALSCALE:GREGORIAN
BEGIN:VEVENT
DTSTAMP:20260421T034113Z
UID:cd0754ad-f994-45e0-8d36-171115eb27fd
DTSTART:20240616T090000Z
DTEND:20240621T000000Z
SUMMARY:16-20 June 2024\, Conference of the European Group on Atomic System
 s - EGAS 55\, Granada\, Spain
URL;VALUE=URI:https://www.laserlab-europe.eu/events/conferences/conference-
 calendar/16-20-june-2024-conference-of-the-european-group-on-atomic-system
 s-egas-55-granada-spain
END:VEVENT
END:VCALENDAR
