BEGIN:VCALENDAR
VERSION:2.0
PRODID:icalendar-ruby
CALSCALE:GREGORIAN
BEGIN:VEVENT
DTSTAMP:20260422T203842Z
UID:b9be72a0-2bda-431a-a47b-f4209e1741ca
DTSTART:20230416T090000Z
DTEND:20230421T000000Z
SUMMARY:16-20 April 2023\, International Workshop on  Non-Equilibrium Dynam
 ics of Condensed Matter\, Ma'ale Hahamisha\, Israel
URL;VALUE=URI:https://www.laserlab-europe.eu/events-1/conferences/conferenc
 e-calendar/16-20-april-2023-international-workshop-on-non-equilibrium-dyna
 mics-of-condensed-matter-maale-hahamisha-israel
END:VEVENT
END:VCALENDAR
