BEGIN:VCALENDAR
VERSION:2.0
PRODID:icalendar-ruby
CALSCALE:GREGORIAN
BEGIN:VEVENT
DTSTAMP:20260421T091749Z
UID:979224e1-8dfa-4de7-83c1-5dc3642fb7d6
DTSTART:20231016T090000Z
DTEND:20231020T000000Z
SUMMARY:16-19 October 2023\, International Symposium on High Power Laser Sc
 ience and Engineering (HPLSE2023)\, Suzhou\, China
URL;VALUE=URI:https://www.laserlab-europe.eu/events/conferences/conference-
 calendar/16-19-october-2023-international-symposium-on-high-power-laser-sc
 ience-and-engineering-hplse2023-suzhou-china
END:VEVENT
END:VCALENDAR
