BEGIN:VCALENDAR
VERSION:2.0
PRODID:icalendar-ruby
CALSCALE:GREGORIAN
BEGIN:VEVENT
DTSTAMP:20260421T143859Z
UID:53aac5d0-ac36-4903-8fe7-c3f73406ccd3
DTSTART:20240416T090000Z
DTEND:20240420T000000Z
SUMMARY:16-19 April 2024\, 2nd COST NanoSpace Joint Scientific Meeting\, Is
 tanbul\, Turkey
URL;VALUE=URI:https://www.laserlab-europe.eu/events/conferences/conference-
 calendar/16-19-april-2024-2nd-cost-nanospace-joint-scientific-meeting-ista
 nbul-turkey
END:VEVENT
END:VCALENDAR
