BEGIN:VCALENDAR
VERSION:2.0
PRODID:icalendar-ruby
CALSCALE:GREGORIAN
BEGIN:VEVENT
DTSTAMP:20260421T091747Z
UID:a36ffa75-66d8-4a28-b1da-1cce85a88f9c
DTSTART:20221116T090000Z
DTEND:20221119T000000Z
SUMMARY:16-18 November 2022\, Ultrafast Science and Technology Spain meetin
 g (USTS 2022)\, Malaga\, Spain
URL;VALUE=URI:https://www.laserlab-europe.eu/events-1/conferences/conferenc
 e-calendar/16-18-november-2022-ultrafast-science-and-technology-spain-meet
 ing-usts-2022-malaga-spain
END:VEVENT
END:VCALENDAR
