BEGIN:VCALENDAR
VERSION:2.0
PRODID:icalendar-ruby
CALSCALE:GREGORIAN
BEGIN:VEVENT
DTSTAMP:20260422T014658Z
UID:d11deed2-c5bb-4d19-882c-6fb9c8b07db1
DTSTART:20220515T090000Z
DTEND:20220521T000000Z
SUMMARY:15-20 May 2022\, CLEO - Conference on Lasers and Electro-Optics\, S
 an Jose\, California\, USA
URL;VALUE=URI:https://www.laserlab-europe.eu/events-1/conferences/conferenc
 e-calendar/15-20-may-2022-cleo-conference-on-lasers-and-electro-optics-san
 -jose-california-usa
END:VEVENT
END:VCALENDAR
