BEGIN:VCALENDAR
VERSION:2.0
PRODID:icalendar-ruby
CALSCALE:GREGORIAN
BEGIN:VEVENT
DTSTAMP:20260422T193453Z
UID:da6aaa04-76fb-4623-9b2e-2886be094ee7
DTSTART:20250915T090000Z
DTEND:20250920T000000Z
SUMMARY:15-19 September 2025\, International Conference on Horizons in Hydr
 ogen Bond Research (HBond2025)\, Hamburg\, Germany
URL;VALUE=URI:https://www.laserlab-europe.eu/events/conferences/conference-
 calendar/15-19-september-2025-international-conference-on-horizons-in-hydr
 ogen-bond-research-hbond2025-hamburg-germany
END:VEVENT
END:VCALENDAR
