BEGIN:VCALENDAR
VERSION:2.0
PRODID:icalendar-ruby
CALSCALE:GREGORIAN
BEGIN:VEVENT
DTSTAMP:20260421T172926Z
UID:77285577-c44f-45a7-8a68-11aaf6f7ef19
DTSTART:20240915T090000Z
DTEND:20240920T000000Z
SUMMARY:15-19 September 2024\, CIRP Conference on Photonic Technologies - L
 ANE 2024\, Fuerth\, Germany
URL;VALUE=URI:https://www.laserlab-europe.eu/events/conferences/conference-
 calendar/15-19-september-2024-cirp-conference-on-photonic-technologies-lan
 e-2024-fuerth-germany
END:VEVENT
END:VCALENDAR
