BEGIN:VCALENDAR
VERSION:2.0
PRODID:icalendar-ruby
CALSCALE:GREGORIAN
BEGIN:VEVENT
DTSTAMP:20260422T073722Z
UID:3fe60964-c577-4d08-bdd8-9acae45d1b27
DTSTART:20240415T090000Z
DTEND:20240419T000000Z
SUMMARY:15-18 April 2024\, Conference Atoms\, Molecules and Clusters in Mot
 ion\, Marne-la-Vallée (Paris)\, France
URL;VALUE=URI:https://www.laserlab-europe.eu/events-1/conferences/conferenc
 e-calendar/15-18-april-2024-conference-atoms-molecules-and-clusters-in-mot
 ion-marne-la-vallee-paris-france
END:VEVENT
END:VCALENDAR
