BEGIN:VCALENDAR
VERSION:2.0
PRODID:icalendar-ruby
CALSCALE:GREGORIAN
BEGIN:VEVENT
DTSTAMP:20260423T014233Z
UID:629e2067-63cf-4560-ba5c-2cd21b294b4b
DTSTART:20240415T090000Z
DTEND:20240419T000000Z
SUMMARY:15-18 April 2024\, Atoms\, Molecules and Clusters in Motion (AMOC20
 24)\, Marne-la-Vallée (Paris)\, France
URL;VALUE=URI:https://www.laserlab-europe.eu/events-1/conferences/conferenc
 e-calendar/15-18-april-2024-atoms-molecules-and-clusters-in-motion-amoc202
 4-marne-la-vallee-paris-france
END:VEVENT
END:VCALENDAR
