BEGIN:VCALENDAR
VERSION:2.0
PRODID:icalendar-ruby
CALSCALE:GREGORIAN
BEGIN:VEVENT
DTSTAMP:20260422T011441Z
UID:f5338ce4-8f99-4e9d-a6cf-e901273d8e13
DTSTART:20230515T090000Z
DTEND:20230518T000000Z
LOCATION:Place Jussieu
SUMMARY:15-17 May 2023\, Informal Meeting on Mass Spectrometry\, Paris\, Fr
 ance
URL;VALUE=URI:https://www.laserlab-europe.eu/events-1/conferences/conferenc
 e-calendar/15-17-may-2023-informal-meeting-on-mass-spectrometry-paris-fran
 ce
END:VEVENT
END:VCALENDAR
