BEGIN:VCALENDAR
VERSION:2.0
PRODID:icalendar-ruby
CALSCALE:GREGORIAN
BEGIN:VEVENT
DTSTAMP:20260420T230727Z
UID:5378eb04-e916-47e6-a4e7-4056a601ff92
DTSTART:20220915T090000Z
DTEND:20220917T000000Z
SUMMARY:15-16 September 2022\, Organic 2D crystalline materials: Chemistry\
 , Physics and Devices (O2DMAT)\, Madrid\, Spain
URL;VALUE=URI:https://www.laserlab-europe.eu/events-1/conferences/conferenc
 e-calendar/15-16-september-2022-organic-2d-crystalline-materials-chemistry
 -physics-and-devices-o2dmat-madrid-spain
END:VEVENT
END:VCALENDAR
