BEGIN:VCALENDAR
VERSION:2.0
PRODID:icalendar-ruby
CALSCALE:GREGORIAN
BEGIN:VEVENT
DTSTAMP:20260420T080935Z
UID:15fad47b-b9ab-46e8-bf30-2d8b5f29c3b2
DTSTART:20220914T090000Z
DTEND:20220915T000000Z
SUMMARY:14 September 2022\, Half-day Symposium on Ultrafast Condensed Phase
  Dynamics\, University of Bristol\, UK
URL;VALUE=URI:https://www.laserlab-europe.eu/events-1/conferences/conferenc
 e-calendar/14-september-2022-half-day-symposium-on-ultrafast-condensed-pha
 se-dynamics-university-of-bristol-uk
END:VEVENT
END:VCALENDAR
