BEGIN:VCALENDAR
VERSION:2.0
PRODID:icalendar-ruby
CALSCALE:GREGORIAN
BEGIN:VEVENT
DTSTAMP:20260421T122943Z
UID:54fc7b95-907f-4902-9761-f42f01e5dc1f
DTSTART:20240714T090000Z
DTEND:20240721T000000Z
SUMMARY:14-20 July 2024\, International School on Lasers in Materials Scien
 ce (SLIMS)\, Venice\, Italy
URL;VALUE=URI:https://www.laserlab-europe.eu/events/conferences/conference-
 calendar/14-20-july-2024-international-school-on-lasers-in-materials-scien
 ce-slims-venice-italy
END:VEVENT
END:VCALENDAR
