BEGIN:VCALENDAR
VERSION:2.0
PRODID:icalendar-ruby
CALSCALE:GREGORIAN
BEGIN:VEVENT
DTSTAMP:20260421T203646Z
UID:3d73f52a-8e47-4563-a48b-5c2e454a88a6
DTSTART:20240714T090000Z
DTEND:20240720T000000Z
SUMMARY:14-19 July 2024\, IUPAC Symposium on Photochemistry\, Valencia\, Sp
 ain
URL;VALUE=URI:https://www.laserlab-europe.eu/events/conferences/conference-
 calendar/14-19-july-2024-iupac-symposium-on-photochemistry-valencia-spain
END:VEVENT
END:VCALENDAR
