BEGIN:VCALENDAR
VERSION:2.0
PRODID:icalendar-ruby
CALSCALE:GREGORIAN
BEGIN:VEVENT
DTSTAMP:20260421T052830Z
UID:ae1f7e98-fe2b-4e0c-b217-a310a05cb67b
DTSTART:20240714T090000Z
DTEND:20240720T000000Z
SUMMARY:14-19 July 2024\, International Conference on Ultrafast Phenomena\,
  Barcelona\, Spain
URL;VALUE=URI:https://www.laserlab-europe.eu/events/conferences/conference-
 calendar/14-19-july-2024-international-conference-on-ultrafast-phenomena-b
 arcelona-spain
END:VEVENT
END:VCALENDAR
