BEGIN:VCALENDAR
VERSION:2.0
PRODID:icalendar-ruby
CALSCALE:GREGORIAN
BEGIN:VEVENT
DTSTAMP:20260420T140454Z
UID:0ffc74f6-34dd-4f5f-bd08-3a7d2ba0368d
DTSTART:20240714T090000Z
DTEND:20240720T000000Z
SUMMARY:14-19 July 2024\, International Conference on Atomic Physics\, Impe
 rial College London\, UK
URL;VALUE=URI:https://www.laserlab-europe.eu/events/conferences/conference-
 calendar/14-19-july-2024-international-conference-on-atomic-physics-imperi
 al-college-london-uk
END:VEVENT
END:VCALENDAR
