BEGIN:VCALENDAR
VERSION:2.0
PRODID:icalendar-ruby
CALSCALE:GREGORIAN
BEGIN:VEVENT
DTSTAMP:20260421T141749Z
UID:10e56d07-77be-47de-b261-4553659666fb
DTSTART:20240714T090000Z
DTEND:20240719T000000Z
SUMMARY:14-18 July 2024\, International Symposium on Gas Kinetics and Relat
 ed Phenomena\, Leeds\, UK
URL;VALUE=URI:https://www.laserlab-europe.eu/events/conferences/conference-
 calendar/14-18-july-2024-international-symposium-on-gas-kinetics-and-relat
 ed-phenomena-leeds-uk
END:VEVENT
END:VCALENDAR
