BEGIN:VCALENDAR
VERSION:2.0
PRODID:icalendar-ruby
CALSCALE:GREGORIAN
BEGIN:VEVENT
DTSTAMP:20260422T195513Z
UID:cdcc9bf2-1790-49cf-bfe4-c9ca1e7bfd05
DTSTART:20220714T090000Z
DTEND:20220718T000000Z
SUMMARY:14-17 July 2022\, Heraeus Seminar “Entropy and the Second Law of 
 Thermodynamics - The past\, the present\, and the future“\, Bad Honnef\,
  Germany
URL;VALUE=URI:https://www.laserlab-europe.eu/events-1/conferences/conferenc
 e-calendar/14-17-july-2022-heraeus-seminar-201centropy-and-the-second-law-
 of-thermodynamics-the-past-the-present-and-the-future201c-bad-honnef-germa
 ny
END:VEVENT
END:VCALENDAR
