BEGIN:VCALENDAR
VERSION:2.0
PRODID:icalendar-ruby
CALSCALE:GREGORIAN
BEGIN:VEVENT
DTSTAMP:20260420T084210Z
UID:148c9622-8be8-4994-b097-bfaff4648e81
DTSTART:20230914T090000Z
DTEND:20230916T000000Z
SUMMARY:14-15 September 2023\, 13th THz Young Scientists Meeting (13th THzY
 SM)m Berlin\, Germany
URL;VALUE=URI:https://www.laserlab-europe.eu/events-1/conferences/conferenc
 e-calendar/14-15-september-2023-13th-thz-young-scientists-meeting-13th-thz
 ysm-m-berlin-germany
END:VEVENT
END:VCALENDAR
