BEGIN:VCALENDAR
VERSION:2.0
PRODID:icalendar-ruby
CALSCALE:GREGORIAN
BEGIN:VEVENT
DTSTAMP:20260421T233307Z
UID:91ef041d-a477-4881-ab14-71cae945d9f6
DTSTART:20230913T090000Z
DTEND:20230914T000000Z
SUMMARY:13 September 2023\, Hybrid International Workshop on Spectrometric 
 Gas Thermometry\, Braunschweig\, Germany and online
URL;VALUE=URI:https://www.laserlab-europe.eu/events-1/conferences/conferenc
 e-calendar/13-september-2023-hybrid-international-workshop-on-spectrometri
 c-gas-thermometry-braunschweig-germany-and-online
END:VEVENT
END:VCALENDAR
