BEGIN:VCALENDAR
VERSION:2.0
PRODID:icalendar-ruby
CALSCALE:GREGORIAN
BEGIN:VEVENT
DTSTAMP:20260422T235549Z
UID:a3ea2062-94f2-492d-a552-3a942e41c493
DTSTART:20220613T090000Z
DTEND:20220614T000000Z
DESCRIPTION:Speaker: Gianluca Geloni (European XFEL)\, 13 June 2022 at 17:0
 0 CEST.
SUMMARY:13 June 2022\, FELs of Europe tutorial: X-Ray Free Electron Lasers:
  from Self-Amplified Spontaneous Emission to Advanced Modes of Operation\,
  online
URL;VALUE=URI:https://www.laserlab-europe.eu/events-1/conferences/conferenc
 e-calendar/13-june-2022-fels-of-europe-tutorial-x-ray-free-electron-lasers
 -from-self-amplified-spontaneous-emission-to-advanced-modes-of-operation-o
 nline
END:VEVENT
END:VCALENDAR
