BEGIN:VCALENDAR
VERSION:2.0
PRODID:icalendar-ruby
CALSCALE:GREGORIAN
BEGIN:VEVENT
DTSTAMP:20260422T073657Z
UID:d610c55b-997b-4338-b564-9be161bed956
DTSTART:20221213T090000Z
DTEND:20221218T000000Z
SUMMARY:13-17 December 2022\, International Conference on Perspectives in V
 ibrational Spectroscopy - ICOPVS-2022\, Indore\, India
URL;VALUE=URI:https://www.laserlab-europe.eu/events-1/conferences/conferenc
 e-calendar/13-17-december-2022-international-conference-on-perspectives-in
 -vibrational-spectroscopy-icopvs-2022-indore-india
END:VEVENT
END:VCALENDAR
