BEGIN:VCALENDAR
VERSION:2.0
PRODID:icalendar-ruby
CALSCALE:GREGORIAN
BEGIN:VEVENT
DTSTAMP:20260421T034218Z
UID:a96933c0-d307-475b-80fa-59494b76ba51
DTSTART:20220613T090000Z
DTEND:20220617T000000Z
SUMMARY:13-16 June 2022\, IAEA Workshop on Innovative Accelerator Science a
 nd Technology Approaches to Sustainable Heritage Management\, Vienna\, Aus
 tria
URL;VALUE=URI:https://www.laserlab-europe.eu/events-1/conferences/conferenc
 e-calendar/13-16-june-2022-iaea-workshop-on-innovative-accelerator-science
 -and-technology-approaches-to-sustainable-heritage-management
END:VEVENT
END:VCALENDAR
