BEGIN:VCALENDAR
VERSION:2.0
PRODID:icalendar-ruby
CALSCALE:GREGORIAN
BEGIN:VEVENT
DTSTAMP:20260420T072958Z
UID:c011a6ad-ee30-41d7-b01f-0800632e1c83
DTSTART:20250113T090000Z
DTEND:20250116T000000Z
SUMMARY:13-15 January 2025\, CECAM conference Advanced force fields in mult
 iscale approaches to computational spectroscopy\, Paris\, France
URL;VALUE=URI:https://www.laserlab-europe.eu/events/conferences/conference-
 calendar/13-15-january-2025-cecam-conference-advanced-force-fields-in-mult
 iscale-approaches-to-computational-spectroscopy-paris-france
END:VEVENT
END:VCALENDAR
