BEGIN:VCALENDAR
VERSION:2.0
PRODID:icalendar-ruby
CALSCALE:GREGORIAN
BEGIN:VEVENT
DTSTAMP:20260422T052339Z
UID:c751e614-8abe-412c-9473-a5abc41e2732
DTSTART:20231113T090000Z
DTEND:20231115T000000Z
DESCRIPTION:Hybrid workshop with both virtual participation via Zoom and in
 -person attendance
SUMMARY:13-14 November 2023\, HELPMI Workshop on data standardization for l
 aser-plasma experiments\, Darmstadt\, Germany
URL;VALUE=URI:https://www.laserlab-europe.eu/events/conferences/conference-
 calendar/13-14-november-2023-helpmi-workshop-on-data-standardization-for-l
 aser-plasma-experiments-darmstadt-germany
END:VEVENT
END:VCALENDAR
