BEGIN:VCALENDAR
VERSION:2.0
PRODID:icalendar-ruby
CALSCALE:GREGORIAN
BEGIN:VEVENT
DTSTAMP:20260421T052831Z
UID:13d79a8d-3d8a-4170-b7d8-fb388b38cfdd
DTSTART:20220613T090000Z
DTEND:20220615T000000Z
SUMMARY:13-14 June 2022\, Ultrafast x-ray science @ SXL\, Stockholm\, Swede
 n
URL;VALUE=URI:https://www.laserlab-europe.eu/events-1/conferences/conferenc
 e-calendar/13-14-june-2022-ultrafast-x-ray-science-sxl-stockholm-sweden
END:VEVENT
END:VCALENDAR
