BEGIN:VCALENDAR
VERSION:2.0
PRODID:icalendar-ruby
CALSCALE:GREGORIAN
BEGIN:VEVENT
DTSTAMP:20260422T070841Z
UID:8f4185e3-1677-4594-985d-04ef85ae8418
DTSTART:20220613T090000Z
DTEND:20220615T000000Z
SUMMARY:13-14 June 2022\, European User Office Meeting - EUOM\, Dolní Bře
 žany\, Czech Republic
URL;VALUE=URI:https://www.laserlab-europe.eu/events-1/conferences/conferenc
 e-calendar/13-14-june-2022-european-user-office-meeting-euom-dolni-brezany
 -czech-republic
END:VEVENT
END:VCALENDAR
