BEGIN:VCALENDAR
VERSION:2.0
PRODID:icalendar-ruby
CALSCALE:GREGORIAN
BEGIN:VEVENT
DTSTAMP:20260422T002225Z
UID:1a4d24d0-aa17-4184-8683-8de2ca315bfc
DTSTART:20240412T090000Z
DTEND:20240413T000000Z
DESCRIPTION:Atto Fridays seminar series - Friday 12/04/2024 3pm London time
 \, online - speaker: Dr Andrew Brown\, Queen's University Belfast
SUMMARY:12 April 2024\, Atto Fridays: RABBITT-HOP - new angles on an old bu
 nny\, online
URL;VALUE=URI:https://www.laserlab-europe.eu/events/conferences/conference-
 calendar/12-april-2024-atto-fridays-rabbitt-hop-new-angles-on-an-old-bunny
 -online
END:VEVENT
END:VCALENDAR
