BEGIN:VCALENDAR
VERSION:2.0
PRODID:icalendar-ruby
CALSCALE:GREGORIAN
BEGIN:VEVENT
DTSTAMP:20260420T015849Z
UID:b8132321-f3a8-4816-86c7-7ce040f6885a
DTSTART:20231112T090000Z
DTEND:20231118T000000Z
SUMMARY:12-17 November 2023\, International Conference on Molecular Energy 
 Transfer in Complex Systems (iCOMET)\, Jaipur\, India
URL;VALUE=URI:https://www.laserlab-europe.eu/events-1/conferences/conferenc
 e-calendar/12-17-november-2023-international-conference-on-molecular-energ
 y-transfer-in-complex-systems-icomet-jaipur-india
END:VEVENT
END:VCALENDAR
