BEGIN:VCALENDAR
VERSION:2.0
PRODID:icalendar-ruby
CALSCALE:GREGORIAN
BEGIN:VEVENT
DTSTAMP:20260421T180000Z
UID:d9f3cbdc-69ae-4903-94a4-a7703083bea8
DTSTART:20250112T090000Z
DTEND:20250118T000000Z
SUMMARY:12-17 January 2025\, MaNEP Winter School New Frontiers in Quantum M
 aterials in Equilibrium and Beyond\, Saas-Fee\, Switzerland
URL;VALUE=URI:https://www.laserlab-europe.eu/events/conferences/conference-
 calendar/12-17-january-2025-manep-winter-school-new-frontiers-in-quantum-m
 aterials-in-equilibrium-and-beyond-saas-fee-switzerland
END:VEVENT
END:VCALENDAR
