BEGIN:VCALENDAR
VERSION:2.0
PRODID:icalendar-ruby
CALSCALE:GREGORIAN
BEGIN:VEVENT
DTSTAMP:20260420T221808Z
UID:41da40af-3316-4ba4-86e6-60e5920184c3
DTSTART:20220912T090000Z
DTEND:20220917T000000Z
SUMMARY:12-16 September 2022\, PaNOSC Summer School “Material Science at 
 European Large-Scale Infrastructures using Open and FAIR Data”\, Szeged\
 , Hungary
URL;VALUE=URI:https://www.laserlab-europe.eu/events-1/conferences/conferenc
 e-calendar/12-16-september-2022-panosc-summer-school-201cmaterial-science-
 at-european-large-scale-infrastructures-using-open-and-fair-data201d-szege
 d-hungary
END:VEVENT
END:VCALENDAR
