BEGIN:VCALENDAR
VERSION:2.0
PRODID:icalendar-ruby
CALSCALE:GREGORIAN
BEGIN:VEVENT
DTSTAMP:20260420T101144Z
UID:a109a61d-4fcc-4cc3-a337-1c7e3de5280e
DTSTART:20220912T090000Z
DTEND:20220917T000000Z
SUMMARY:12-16 September 2022\, EOS Annual Meeting (EOSAM)\, Porto\, Portuga
 l
URL;VALUE=URI:https://www.laserlab-europe.eu/events-1/conferences/conferenc
 e-calendar/12-16-september-2022-eos-annual-meeting-eosam-porto-portugal
END:VEVENT
END:VCALENDAR
