BEGIN:VCALENDAR
VERSION:2.0
PRODID:icalendar-ruby
CALSCALE:GREGORIAN
BEGIN:VEVENT
DTSTAMP:20260420T193230Z
UID:f8d5f72a-6de2-4705-8c11-a1b7a7f5f87c
DTSTART:20230612T090000Z
DTEND:20230617T000000Z
SUMMARY:12-16 June 2023\, Ultrafast X-ray Summer School (UXSS)\, Hamburg\, 
 Germany
URL;VALUE=URI:https://www.laserlab-europe.eu/events-1/conferences/conferenc
 e-calendar/12-16-june-2023-ultrafast-x-ray-summer-school-uxss-hamburg-germ
 any
END:VEVENT
END:VCALENDAR
