BEGIN:VCALENDAR
VERSION:2.0
PRODID:icalendar-ruby
CALSCALE:GREGORIAN
BEGIN:VEVENT
DTSTAMP:20260422T172033Z
UID:796c7b61-3c21-4102-8b4e-39ec28156797
DTSTART:20230912T090000Z
DTEND:20230916T000000Z
SUMMARY:12-15 September 2023\, International Conference on "Horizons in Hyd
 rogen Bond Research" HBOND2023 Bologna\, Italy
URL;VALUE=URI:https://www.laserlab-europe.eu/events-1/conferences/conferenc
 e-calendar/12-15-september-2023-international-conference-on-horizons-in-hy
 drogen-bond-research-hbond2023-bologna-italy
END:VEVENT
END:VCALENDAR
