BEGIN:VCALENDAR
VERSION:2.0
PRODID:icalendar-ruby
CALSCALE:GREGORIAN
BEGIN:VEVENT
DTSTAMP:20260422T121221Z
UID:f3aec3b9-b261-41d4-bc18-2fa24cb88262
DTSTART:20220912T090000Z
DTEND:20220916T000000Z
SUMMARY:12-15 September 2022\, International Conference on Horizons in Hydr
 ogen Bond Research - HBOND2022\, Bilbao\, Spain
URL;VALUE=URI:https://www.laserlab-europe.eu/events-1/conferences/conferenc
 e-calendar/12-15-september-2022-international-conference-on-horizons-in-hy
 drogen-bond-research-hbond2022
END:VEVENT
END:VCALENDAR
