BEGIN:VCALENDAR
VERSION:2.0
PRODID:icalendar-ruby
CALSCALE:GREGORIAN
BEGIN:VEVENT
DTSTAMP:20260422T193629Z
UID:f155b116-d352-43a4-a032-fef7b7992cd2
DTSTART:20240312T090000Z
DTEND:20240316T000000Z
SUMMARY:12-15 March 2024\, 13th International Workshop on Adaptive Optics f
 or Industry and Medicine - AOIM 2024\, Padova\, Italy
URL;VALUE=URI:https://www.laserlab-europe.eu/events/conferences/conference-
 calendar/12-15-march-2024-13th-international-workshop-on-adaptive-optics-f
 or-industry-and-medicine-aoim-2024-padova-italy
END:VEVENT
END:VCALENDAR
