BEGIN:VCALENDAR
VERSION:2.0
PRODID:icalendar-ruby
CALSCALE:GREGORIAN
BEGIN:VEVENT
DTSTAMP:20260421T214442Z
UID:57d07300-f0c3-4024-99e2-44b5541c24c6
DTSTART:20230612T090000Z
DTEND:20230615T000000Z
SUMMARY:12-14 June 2023\, Simons Center International Workshop on Nuclear Q
 uantum Effects in Chemistry\, New York\, USA
URL;VALUE=URI:https://www.laserlab-europe.eu/events-1/conferences/conferenc
 e-calendar/12-14-june-2023-simons-center-international-workshop-on-nuclear
 -quantum-effects-in-chemistry-new-york-usa
END:VEVENT
END:VCALENDAR
