BEGIN:VCALENDAR
VERSION:2.0
PRODID:icalendar-ruby
CALSCALE:GREGORIAN
BEGIN:VEVENT
DTSTAMP:20260422T102820Z
UID:f8e0dca5-2b67-4e48-8957-256be40e047a
DTSTART:20241011T090000Z
DTEND:20241012T000000Z
DESCRIPTION:Atto Fridays seminar series - Friday 11/10/2024 3pm London time
 \, online - Speaker: Prof Diego Arbo' (University of Buenos Aires).
SUMMARY:11 October 2024\, Atto Fridays seminar: Attosecond Time Delays by I
 nterference of Multiphoton Transitions\, online
URL;VALUE=URI:https://www.laserlab-europe.eu/events/conferences/conference-
 calendar/11-october-2024-atto-fridays-seminar-attosecond-time-delays-by-in
 terference-of-multiphoton-transitions-online
END:VEVENT
END:VCALENDAR
