BEGIN:VCALENDAR
VERSION:2.0
PRODID:icalendar-ruby
CALSCALE:GREGORIAN
BEGIN:VEVENT
DTSTAMP:20260420T080832Z
UID:f7b4d692-84f4-4c6b-a574-a5e2552ef2b8
DTSTART:20221011T090000Z
DTEND:20221012T000000Z
SUMMARY:11 October 2022\, CONEXS Webinar: Using X-ray spectroscopy to quant
 ify oxidation-state and ligand-field strength in transition metal complexe
 s\, online
URL;VALUE=URI:https://www.laserlab-europe.eu/events-1/conferences/conferenc
 e-calendar/11-october-2022-conexs-webinar-using-x-ray-spectroscopy-to-quan
 tify-oxidation-state-and-ligand-field-strength-in-transition-metal-complex
 es-online
END:VEVENT
END:VCALENDAR
