BEGIN:VCALENDAR
VERSION:2.0
PRODID:icalendar-ruby
CALSCALE:GREGORIAN
BEGIN:VEVENT
DTSTAMP:20260420T190210Z
UID:5963645e-30d8-4e91-b815-21d05dd08cbe
DTSTART:20240611T090000Z
DTEND:20240612T000000Z
SUMMARY:11 June 2024\, Women in Photochemistry Symposium\, London\, UK
URL;VALUE=URI:https://www.laserlab-europe.eu/events/conferences/conference-
 calendar/11-june-2024-women-in-photochemistry-symposium-london-uk
END:VEVENT
END:VCALENDAR
