BEGIN:VCALENDAR
VERSION:2.0
PRODID:icalendar-ruby
CALSCALE:GREGORIAN
BEGIN:VEVENT
DTSTAMP:20260422T121307Z
UID:c12d5738-da7f-4d30-839b-ae602ff68962
DTSTART:20220911T090000Z
DTEND:20220917T000000Z
SUMMARY:11-16 September 2022\, International Nuclear Physics Conference - I
 NPC2022\, Johannesburg\, South Africa
URL;VALUE=URI:https://www.laserlab-europe.eu/events-1/conferences/conferenc
 e-calendar/11-16-september-2022-international-nuclear-physics-conference-i
 npc2022-johannesburg-south-africa
END:VEVENT
END:VCALENDAR
