BEGIN:VCALENDAR
VERSION:2.0
PRODID:icalendar-ruby
CALSCALE:GREGORIAN
BEGIN:VEVENT
DTSTAMP:20260422T165543Z
UID:21362e9d-25cd-4d41-8b4f-da14dffab5c1
DTSTART:20241111T090000Z
DTEND:20241116T000000Z
SUMMARY:11-15 November 2024\, International Meeting on Photodynamics and Re
 lated Aspects\, Santiago\, Chile
URL;VALUE=URI:https://www.laserlab-europe.eu/events/conferences/conference-
 calendar/11-15-november-2024-international-meeting-on-photodynamics-and-re
 lated-aspects-santiago-chile
END:VEVENT
END:VCALENDAR
