BEGIN:VCALENDAR
VERSION:2.0
PRODID:icalendar-ruby
CALSCALE:GREGORIAN
BEGIN:VEVENT
DTSTAMP:20260421T153533Z
UID:2dbd971b-a28e-4616-8f58-9e8cc6df4e37
DTSTART:20220711T090000Z
DTEND:20220716T000000Z
SUMMARY:11-15 July 2022\, ATTO VIII - Attosecond Science and Technology Con
 ference\, Orlando\, USA
URL;VALUE=URI:https://www.laserlab-europe.eu/events-1/conferences/conferenc
 e-calendar/11-15-july-2022-atto-viii-attosecond-science-and-technology-con
 ference-orlando-usa
END:VEVENT
END:VCALENDAR
